BEGIN:VCALENDAR
VERSION:2.0
PRODID:-//Colegio de Economistas de Aragón - ECPv6.15.18//NONSGML v1.0//EN
CALSCALE:GREGORIAN
METHOD:PUBLISH
X-ORIGINAL-URL:https://economistasaragon.org
X-WR-CALDESC:Eventos para Colegio de Economistas de Aragón
REFRESH-INTERVAL;VALUE=DURATION:PT1H
X-Robots-Tag:noindex
X-PUBLISHED-TTL:PT1H
BEGIN:VTIMEZONE
TZID:Europe/Madrid
BEGIN:DAYLIGHT
TZOFFSETFROM:+0100
TZOFFSETTO:+0200
TZNAME:CEST
DTSTART:20250330T010000
END:DAYLIGHT
BEGIN:STANDARD
TZOFFSETFROM:+0200
TZOFFSETTO:+0100
TZNAME:CET
DTSTART:20251026T010000
END:STANDARD
BEGIN:DAYLIGHT
TZOFFSETFROM:+0100
TZOFFSETTO:+0200
TZNAME:CEST
DTSTART:20260329T010000
END:DAYLIGHT
BEGIN:STANDARD
TZOFFSETFROM:+0200
TZOFFSETTO:+0100
TZNAME:CET
DTSTART:20261025T010000
END:STANDARD
BEGIN:DAYLIGHT
TZOFFSETFROM:+0100
TZOFFSETTO:+0200
TZNAME:CEST
DTSTART:20270328T010000
END:DAYLIGHT
BEGIN:STANDARD
TZOFFSETFROM:+0200
TZOFFSETTO:+0100
TZNAME:CET
DTSTART:20271031T010000
END:STANDARD
END:VTIMEZONE
BEGIN:VEVENT
DTSTART;TZID=Europe/Madrid:20260310T100000
DTEND;TZID=Europe/Madrid:20260310T140000
DTSTAMP:20260420T111947
CREATED:20260218T101424Z
LAST-MODIFIED:20260218T102204Z
UID:10000432-1773136800-1773151200@economistasaragon.org
SUMMARY:ASPECTOS FISCALES CONTROVERTIDOS (PRESENCIAL)
DESCRIPTION:A efectos de la formación continuada obligatoria requerida por la vigente Ley de Auditoría de Cuentas\,  se homologa con 4 horas en otras materias. \n A efectos de la formación continua requerida por el Registro de Expertos Contables\, se homologa con 4 horas. \n  \nPROGRAMA \n1.      Las sociedades holding mixtas y su tratamiento en el IVA \n·         Delimitación de operaciones sujetas / no sujetas. \n·         Concreción de los sectores diferenciados en las actividades de una entidad holding. \n·         Deducciones: reglas generales de deducibilidad y principio de afectación. \n2.      Base imponible del IVA: modificaciones \n·         Enumeración de los supuestos que dan lugar a la modificación de la base imponible. \n·         Modificación versus rectificación. \n·         Los créditos incobrables y las condiciones formales para modificar la base imponible. \n3.      Deducciones y bienes de inversión. \n·         Cuotas soportadas afectas a operaciones sujetas / no sujetas. \n·         Bienes de inversión y artículo 95.Tres de la LIVA. \n·         Bienes de inversión y afectación total / parcial a la actividad económica sujeta al impuesto. \n·         Alteración del grado de afectación a la actividad económica de los bienes de inversión en período de regularización. \n·         Medios de transporte: gastos accesorios. \n·         Atenciones a clientes versus gastos de publicidad. \n4.      Deducciones: destino previsible \n·         Nacimiento y ejercicio del derecho a deducir. \n·         Cuotas soportadas con anterioridad al inicio de la actividad y destino previsible. \n·         Cuotas soportadas en operaciones inmobiliarias y destino previsible. \n5.      El principio de regularización íntegra \n·         Delimitación jurisprudencial. \n·         Ámbito de aplicación. \n·         La conflictividad IVA – TPO. \n6.      Comercio electrónico: Ventas a distancia intracomunitarias \n·         Altas \n·         Incumplimientos \n  \nPONENTE: \n\nD. Antonio Longas Lafuente. Inspector de Hacienda de la AEAT (Madrid).\n  \nFECHA\, HORARIO Y LUGAR \n10 de marzo de 2026 \nDe 10 a 14 horas \nModalidad: presencial \nDON JAIME I\, 16 PPAL IZQ \n  \nMATRÍCULA \n\nColegiado/a: 60 € \nNo colegiado/a: 100 € \nSocios/personal del colegiado/a:  80 € \n(Plazas gratuitas en streaming para colegiados menores de 30 años y 50% para colegiados jubilados. Solicita tu plaza en colegioaragon@economistas.org) \nEl plazo de inscripción finalizará el 04 de marzo de 2026. Toda inscripción no anulada 24 horas antes del comienzo del curso supondrá el pago íntegro de la matrícula.
URL:https://economistasaragon.org/evento/aspectos-fiscales-controvertidos/
LOCATION:Colegio de Economistas de Aragón\, C/ Don Jaime I\, 16 Ppal Izda\, Zaragoza\, Zaragoza\, 50001\, España
CATEGORIES:Cursos y seminarios
ATTACH;FMTTYPE=image/jpeg:https://economistasaragon.org/wp-content/uploads/2020/06/cursos-fiscal.jpg
ORGANIZER;CN="Colegio de Economistas de Arag%C3%B3n":MAILTO:colegioaragon@economistas.org
END:VEVENT
BEGIN:VEVENT
DTSTART;TZID=Europe/Madrid:20260310T100000
DTEND;TZID=Europe/Madrid:20260310T140000
DTSTAMP:20260420T111947
CREATED:20260218T102754Z
LAST-MODIFIED:20260218T102754Z
UID:10000433-1773136800-1773151200@economistasaragon.org
SUMMARY:ASPECTOS FISCALES CONTROVERTIDOS (STREAMING)
DESCRIPTION:A efectos de la formación continuada obligatoria requerida por la vigente Ley de Auditoría de Cuentas\,  se homologa con 4 horas en otras materias. \n A efectos de la formación continua requerida por el Registro de Expertos Contables\, se homologa con 4 horas. \n  \nPROGRAMA \n1.      Las sociedades holding mixtas y su tratamiento en el IVA \n·         Delimitación de operaciones sujetas / no sujetas. \n·         Concreción de los sectores diferenciados en las actividades de una entidad holding. \n·         Deducciones: reglas generales de deducibilidad y principio de afectación. \n2.      Base imponible del IVA: modificaciones \n·         Enumeración de los supuestos que dan lugar a la modificación de la base imponible. \n·         Modificación versus rectificación. \n·         Los créditos incobrables y las condiciones formales para modificar la base imponible. \n3.      Deducciones y bienes de inversión. \n·         Cuotas soportadas afectas a operaciones sujetas / no sujetas. \n·         Bienes de inversión y artículo 95.Tres de la LIVA. \n·         Bienes de inversión y afectación total / parcial a la actividad económica sujeta al impuesto. \n·         Alteración del grado de afectación a la actividad económica de los bienes de inversión en período de regularización. \n·         Medios de transporte: gastos accesorios. \n·         Atenciones a clientes versus gastos de publicidad. \n4.      Deducciones: destino previsible \n·         Nacimiento y ejercicio del derecho a deducir. \n·         Cuotas soportadas con anterioridad al inicio de la actividad y destino previsible. \n·         Cuotas soportadas en operaciones inmobiliarias y destino previsible. \n5.      El principio de regularización íntegra \n·         Delimitación jurisprudencial. \n·         Ámbito de aplicación. \n·         La conflictividad IVA – TPO. \n6.      Comercio electrónico: Ventas a distancia intracomunitarias \n·         Altas \n·         Incumplimientos \n  \nPONENTE: \n\nD. Antonio Longas Lafuente. Inspector de Hacienda de la AEAT (Madrid).\n  \nFECHA\, HORARIO Y LUGAR \n10 de marzo de 2026 \nDe 10 a 14 horas \nModalidad: streaming \nRecuerda que la dirección de correo electrónico que figure en el formulario de inscripción es la que se utiliza para dar el alta en la plataforma online y sólo puede utilizarse para un usuario. \n  \nMATRÍCULA \n\nColegiado/a: 60 € \nNo colegiado/a: 100 € \nSocios/personal del colegiado/a:  80 € \n(Plazas gratuitas en streaming para colegiados menores de 30 años y 50% para colegiados jubilados. Solicita tu plaza en colegioaragon@economistas.org) \nEl plazo de inscripción finalizará el 04 de marzo de 2026. Toda inscripción no anulada 24 horas antes del comienzo del curso supondrá el pago íntegro de la matrícula.
URL:https://economistasaragon.org/evento/aspectos-fiscales-controvertidos-streaming/
LOCATION:Curso streaming
CATEGORIES:Cursos y seminarios
ATTACH;FMTTYPE=image/jpeg:https://economistasaragon.org/wp-content/uploads/2020/06/cursos-fiscal.jpg
ORGANIZER;CN="Colegio de Economistas de Arag%C3%B3n":MAILTO:colegioaragon@economistas.org
END:VEVENT
BEGIN:VEVENT
DTSTART;TZID=Europe/Madrid:20260327T100000
DTEND;TZID=Europe/Madrid:20260327T123000
DTSTAMP:20260420T111947
CREATED:20260310T092654Z
LAST-MODIFIED:20260310T092843Z
UID:10000434-1774605600-1774614600@economistasaragon.org
SUMMARY:Régimen FEAC: motivos económicos válidos.  Criterios TEAC\, imprescriptibilidad y reparto de reservas contables – método FIFO (PRESENCIAL)
DESCRIPTION:A efectos de la formación continuada obligatoria requerida por la vigente Ley de Auditoría de Cuentas\, se homologa con 2\,5 horas Otras Materias. \n A efectos de la formación continua requerida por el Registro de Expertos Contables\, se homologa con 2\,5 horas. \n  \nPROGRAMA: \nLas novedades jurisprudenciales y doctrinales que aconsejan una revisión del escenario. \nResumen de la doctrina actual.\nDescripción de los casos y motivos económicos válidos alegados.\nVentajas fiscales y ventajas fiscales abusivas:\n– Análisis y conclusiones de las resoluciones y sentencias citadas sobre la existencia de ventajas fiscales\n– ¿Se puede equiparar a ventaja fiscal abusiva con el ahorro fiscal del régimen de comunicación de operaciones trasfronterizas de la Directiva de Intermediarios?\n– Distinción de la ventaja fiscal legítima y la abusiva\n– El cómputo de la ventaja fiscal y su imputación temporal. El “método” FIFO\n– La triple imposición sobrevenida\n– ¿Existe la ventaja fiscal en la aportación de una participación en una sociedad a una sociedad bajo control personal o familiar?\n– El artículo 115 de la LGT: ¿una nueva amenaza?\n– ¿Una solución a la bilbaína?\n– ¿Qué ocurre con otras operaciones de reestructuración?\n\nRecientes consultas de la DGT sobre motivos económicos válidos.\nAproximación a la postura de la AEAT.\nAlgunas reflexiones prácticas.\nPróximos capítulos.\n\n\nPONENTE: \nD. Ricardo Gómez-Barreda. OF COUNSEL DEL DEPARTAMENTO DE DERECHO TRIBUTARIO DE GARRIGUES\n\n\n  \nFECHA\, HORARIO Y MODALIDAD: \n27 de marzo de 2026 \nDe 10:00 a 12:30 horas \nModalidad: presencial \nDON JAIME I\, 16 PPAL IZQ \n  \n\nMATRÍCULA \n\nColegiado/a: 50 € \nNo colegiado/a: 90 € \nSocios/personal del colegiado/a:  70 € \n(Plazas gratuitas en streaming para colegiados menores de 30 años y 50% para colegiados jubilados. Solicita tu plaza en colegioaragon@economistas.org) \nEl plazo de inscripción finalizará el 24 de marzo de 2026. Toda inscripción no anulada 24 horas antes del comienzo del curso supondrá el pago íntegro de la matrícula.
URL:https://economistasaragon.org/evento/regimen-feac-motivos-economicos-validos-criterios-teac-imprescriptibilidad-y-reparto-de-reservas-contables-metodo-fifo-presencial/
LOCATION:Colegio de Economistas de Aragón\, C/ Don Jaime I\, 16 Ppal Izda\, Zaragoza\, Zaragoza\, 50001\, España
CATEGORIES:Cursos y seminarios
ATTACH;FMTTYPE=image/jpeg:https://economistasaragon.org/wp-content/uploads/2020/06/cursos-fiscal.jpg
ORGANIZER;CN="Colegio de Economistas de Arag%C3%B3n":MAILTO:colegioaragon@economistas.org
END:VEVENT
BEGIN:VEVENT
DTSTART;TZID=Europe/Madrid:20260327T100000
DTEND;TZID=Europe/Madrid:20260327T123000
DTSTAMP:20260420T111947
CREATED:20260310T093651Z
LAST-MODIFIED:20260310T093736Z
UID:10000435-1774605600-1774614600@economistasaragon.org
SUMMARY:Régimen FEAC: motivos económicos válidos.  Criterios TEAC\, imprescriptibilidad y reparto de reservas contables – método FIFO (STREAMING)
DESCRIPTION:A efectos de la formación continuada obligatoria requerida por la vigente Ley de Auditoría de Cuentas\, se homologa con 2\,5 horas Otras Materias. \n A efectos de la formación continua requerida por el Registro de Expertos Contables\, se homologa con 2\,5 horas. \n  \nPROGRAMA: \nLas novedades jurisprudenciales y doctrinales que aconsejan una revisión del escenario. \nResumen de la doctrina actual. \nDescripción de los casos y motivos económicos válidos alegados. \nVentajas fiscales y ventajas ficales abusivas: \n\nAnálisis y conclusiones de las resoluciones y sentencias citadas sobre la existencia de ventajas fiscales\n¿Se puede equiparar a ventaja fiscal abusiva con el ahorro fiscal del régimen de comunicación de operaciones trasfronterizas de la Directiva de Intermediarios?\nDistinción de la ventaja fiscal legítima y la abusiva\nEl cómputo de la ventaja fiscal y su imputación temporal. El «método» FIFO\nLa triple imposición sobrevenida\n¿Existe la ventaja fiscal en la aportación de una participación en una sociedad a una sociedad bajo control personal o familiar?\nEl artículo 115 de la LGT: ¿una nueva amenaza?\n¿Una solución a la bilbaína?\n¿Qué ocurre con otras operaciones de reestructuración?\n\nRecientes consultas de la DGT sobre motivos económicos válidos. \nAproximación a la postura de la AEAT. \nAlgunas reflexiones prácticas. \nPróximos capítulos. \n\nPONENTE:\nD. Ricardo Gómez- Barreda. OF COUNSEL DEL DEPARTAMENTO DE DERECHO TRIBUTARIO DE GARRIGUES\n\n\nFECHA\, HORARIO Y MODALIDAD:\n\n27 de marzo de 2026 \nDe 10:00 a 12:30 horas \nModalidad: streaming \nRecuerda que la dirección de correo electrónico que figure en el formulario de inscripción es la que se utiliza para dar el alta en la plataforma online y sólo puede utilizarse para un usuario. \n  \n\nMATRÍCULA \n\nColegiado/a: 50 € \nNo colegiado/a: 90 € \nSocios/personal del colegiado/a:  70 € \n(Plazas gratuitas en streaming para colegiados menores de 30 años y 50% para colegiados jubilados. Solicita tu plaza en colegioaragon@economistas.org) \nEl plazo de inscripción finalizará el 24 de marzo de 2026. Toda inscripción no anulada 24 horas antes del comienzo del curso supondrá el pago íntegro de la matrícula.
URL:https://economistasaragon.org/evento/regimen-feac-motivos-economicos-validos-criterios-teac-imprescriptibilidad-y-reparto-de-reservas-contables-metodo-fifo-streaming/
LOCATION:Curso streaming
CATEGORIES:Cursos y seminarios
ATTACH;FMTTYPE=image/jpeg:https://economistasaragon.org/wp-content/uploads/2020/06/cursos-fiscal.jpg
ORGANIZER;CN="Colegio de Economistas de Arag%C3%B3n":MAILTO:colegioaragon@economistas.org
END:VEVENT
BEGIN:VEVENT
DTSTART;TZID=Europe/Madrid:20260421T163000
DTEND;TZID=Europe/Madrid:20260421T193000
DTSTAMP:20260420T111947
CREATED:20260326T092054Z
LAST-MODIFIED:20260326T121516Z
UID:10000436-1776789000-1776799800@economistasaragon.org
SUMMARY:IMPUESTO SOBRE LA RENTA DE LAS PERSONAS FISICAS. EJERCICIO 2025 (PRESENCIAL)
DESCRIPTION:En el curso se analizarán las Novedades de la Campaña de Renta 2025 con las principales modificaciones normativas y del modelo de IRPF para la declaración a realizar este año. \nPONENTES: \n\nJESUS BLESA LALINDE\, ex Jefe del Servicio de Información Tributaria de la AEAT en Zaragoza.\nJOSE CARLOS CASTILLO PARDILLOS\, Responsable del Servicio de Información Tributaria de la AEAT de Zaragoza.\n\n  \nFECHA\, HORARIO Y MODALIDAD: \n21 de abril de 2025 \nDe 16:30 a 19:30 h \nModalidad: presencial \nDON JAIME I\, 16 PPAL IZQ \n  \nMATRÍCULA: \nColegiados/as:  50 €  (50% descuento para colegiados Jubilados y desempleados) \nNo colegiados/as: 80 € \nSocios/personal del colegiado:  65 € \nPlazas gratuitas para colegiados menores de 30 años. Consulta condiciones aquí. Solicita tu plaza en colegioaragon@economistas.org \n   El plazo de inscripción finalizará el 17 de abril del 2026.  Toda inscripción no anulada 24 horas antes del comienzo del curso   supondrá el pago íntegro de la matrícula. No se admitirán cancelaciones de plaza una vez enviado el material del ponente.
URL:https://economistasaragon.org/evento/impuesto-sobre-la-renta-de-las-personas-fisicas-ejercicio-2025/
LOCATION:Colegio de Economistas de Aragón\, C/ Don Jaime I\, 16 Ppal Izda\, Zaragoza\, Zaragoza\, 50001\, España
CATEGORIES:Cursos y seminarios
ATTACH;FMTTYPE=image/jpeg:https://economistasaragon.org/wp-content/uploads/2020/06/cursos-fiscal.jpg
ORGANIZER;CN="Colegio de Economistas de Arag%C3%B3n":MAILTO:colegioaragon@economistas.org
END:VEVENT
BEGIN:VEVENT
DTSTART;TZID=Europe/Madrid:20260421T163000
DTEND;TZID=Europe/Madrid:20260421T193000
DTSTAMP:20260420T111947
CREATED:20260326T124728Z
LAST-MODIFIED:20260326T124728Z
UID:10000437-1776789000-1776799800@economistasaragon.org
SUMMARY:IMPUESTO SOBRE LA RENTA DE LAS PERSONAS FISICAS. EJERCICIO 2025 (STREAMING)
DESCRIPTION:En el curso se analizarán las Novedades de la Campaña de Renta 2025 con las principales modificaciones normativas y del modelo de IRPF para la declaración a realizar este año. \nPONENTES: \n\nJESUS BLESA LALINDE\, ex Jefe del Servicio de Información Tributaria de la AEAT en Zaragoza.\nJOSE CARLOS CASTILLO PARDILLOS\, Responsable del Servicio de Información Tributaria de la AEAT de Zaragoza.\n\n  \nFECHA\, HORARIO Y MODALIDAD: \n21 de abril de 2025 \nDe 16:30 a 19:30 h \nModalidad: streaming (la modalidad streaming es para asistentes de fuera de Zaragoza) \nRecuerda que la dirección de correo electrónico que figure en el formulario de inscripción es la que se utiliza para dar el alta en la plataforma online y sólo puede utilizarse para un usuario. \n  \nMATRÍCULA \nColegiados/as:  50 €  (50% descuento para colegiados Jubilados y desempleados) \nNo colegiados/as: 80 € \nSocios/personal del colegiado:  65 € \nPlazas gratuitas para colegiados menores de 30 años. Consulta condiciones aquí. Solicita tu plaza en colegioaragon@economistas.org \n   El plazo de inscripción finalizará el 17 de abril del 2026.  Toda inscripción no anulada 24 horas antes del comienzo del curso   supondrá el pago íntegro de la matrícula. No se admitirán cancelaciones de plaza una vez enviado el material del ponente.
URL:https://economistasaragon.org/evento/impuesto-sobre-la-renta-de-las-personas-fisicas-ejercicio-2025-streaming/
LOCATION:Curso streaming
CATEGORIES:Cursos y seminarios
ORGANIZER;CN="Colegio de Economistas de Arag%C3%B3n":MAILTO:colegioaragon@economistas.org
END:VEVENT
END:VCALENDAR