BEGIN:VCALENDAR
VERSION:2.0
PRODID:-//Colegio de Economistas de Aragón - ECPv6.15.18//NONSGML v1.0//EN
CALSCALE:GREGORIAN
METHOD:PUBLISH
X-ORIGINAL-URL:https://economistasaragon.org
X-WR-CALDESC:Eventos para Colegio de Economistas de Aragón
REFRESH-INTERVAL;VALUE=DURATION:PT1H
X-Robots-Tag:noindex
X-PUBLISHED-TTL:PT1H
BEGIN:VTIMEZONE
TZID:Europe/Madrid
BEGIN:DAYLIGHT
TZOFFSETFROM:+0100
TZOFFSETTO:+0200
TZNAME:CEST
DTSTART:20250330T010000
END:DAYLIGHT
BEGIN:STANDARD
TZOFFSETFROM:+0200
TZOFFSETTO:+0100
TZNAME:CET
DTSTART:20251026T010000
END:STANDARD
BEGIN:DAYLIGHT
TZOFFSETFROM:+0100
TZOFFSETTO:+0200
TZNAME:CEST
DTSTART:20260329T010000
END:DAYLIGHT
BEGIN:STANDARD
TZOFFSETFROM:+0200
TZOFFSETTO:+0100
TZNAME:CET
DTSTART:20261025T010000
END:STANDARD
BEGIN:DAYLIGHT
TZOFFSETFROM:+0100
TZOFFSETTO:+0200
TZNAME:CEST
DTSTART:20270328T010000
END:DAYLIGHT
BEGIN:STANDARD
TZOFFSETFROM:+0200
TZOFFSETTO:+0100
TZNAME:CET
DTSTART:20271031T010000
END:STANDARD
END:VTIMEZONE
BEGIN:VEVENT
DTSTART;TZID=Europe/Madrid:20260226T163000
DTEND;TZID=Europe/Madrid:20260226T193000
DTSTAMP:20260420T230148
CREATED:20260204T114951Z
LAST-MODIFIED:20260204T115334Z
UID:10000430-1772123400-1772134200@economistasaragon.org
SUMMARY:La fiscalidad del sector de energías renovables: aspectos clave para las empresas implicadas (PRESENCIAL)
DESCRIPTION:PRESENTACIÓN \nLa fiscalidad es un factor decisivo en la rentabilidad y en la estructura de cualquier proyecto renovable: desde la fase de desarrollo y los contratos iniciales\, pasando por la construcción y la puesta en marcha\, hasta la operación y la eventual venta de la SPV o reestructuración del grupo. \nEste curso ofrece una visión cronológica y práctica (desarrollo\, construcción\, transacción y producción)\, conectando impuestos\, contratos y decisiones empresariales con la normativa\, la doctrina administrativa y la jurisprudencia más relevante. Está orientado tanto a asesores como a directivos\, promotores\, financiadores e inversores que participan en proyectos fotovoltaicos\, eólicos u otras tecnologías. \n  \nOBJETIVOS \nEntender cómo impacta la fiscalidad en las decisiones clave de los proyectos renovables (estructura\, contratos\, financiación\, inversión/desinversión y operación) y saber identificar riesgos y oportunidades tributarias en cada fase. \n  \nDESTINATARIOS \n\nAsesores fiscales\, economistas\, consultores y personal de despachos (fiscal/mercantil/contable).\nDirectivos y técnicos de empresa\nEmpresas de la cadena de valor: EPC/constructores\, ingenierías\, O&M\, empresas de evacuación\, propietarios de suelo\, agregadores/comercializadoras (por su interacción contractual y fiscal).\nInversores y financiadores.\n\n  \nMETODOLOGÍA \n\nEnfoque cronológico por fases del proyecto: desarrollo → suelo/evacuación → construcción → operación → transacción/reestructuración.\nTrabajo con normativa\, doctrina y jurisprudencia aplicadas.\n\n  \nCONTENIDO \n1) Fase de desarrollo: estructura\, gastos y primeros contratos (IS e IVA) \n2) Terrenos\, derechos y evacuación: suelo\, servidumbres e infraestructuras \n3) SPVs y transacciones: compraventa de sociedades vehículo (share deal) vs activos (asset deal) \n4) Construcción: fiscalidad indirecta y tributos vinculados a obra (IVA\, ICIO) y tasas. \n5) Fiscalidad local y sectorial: IAE\, IBI\, cánones\, gravámenes y su impacto económico \n6) Operación: explotación del activo renovable (IS/IRPF\, IVA\, ingresos/gastos\, deducciones\, PPAs) \n7) Reestructuraciones y operaciones societarias: eficiencia y neutralidad fiscal \n  \nFECHA\, HORARIO Y MODALIDAD \n26 de Febrero de 2026 \nDe 16.30 a 19.30 h \nModalidad: presencial \nC/ Don Jaime I\, 16 Ppal Izda \n  \nMATRÍCULA \nColegiado: 60 € \nNo colegiados: 100 € \nSocios/personal del colegiado:  80 € \nEl plazo de inscripción finalizará el 23 de febrero de 2026. Toda inscripción no anulada 24 horas antes del comienzo del curso supondrá el pago íntegro de la matrícula \n 
URL:https://economistasaragon.org/evento/la-fiscalidad-del-sector-de-energias-renovables-aspectos-clave-para-las-empresas-implicadas/
LOCATION:Colegio de Economistas de Aragón\, C/ Don Jaime I\, 16 Ppal Izda\, Zaragoza\, Zaragoza\, 50001\, España
CATEGORIES:Cursos y seminarios
ATTACH;FMTTYPE=image/jpeg:https://economistasaragon.org/wp-content/uploads/2026/02/Fiscalidad-renovables.jpg
ORGANIZER;CN="Colegio de Economistas de Arag%C3%B3n":MAILTO:colegioaragon@economistas.org
END:VEVENT
BEGIN:VEVENT
DTSTART;TZID=Europe/Madrid:20260226T163000
DTEND;TZID=Europe/Madrid:20260226T193000
DTSTAMP:20260420T230148
CREATED:20260204T115914Z
LAST-MODIFIED:20260204T120058Z
UID:10000431-1772123400-1772134200@economistasaragon.org
SUMMARY:La fiscalidad del sector de energías renovables: aspectos clave para las empresas implicadas. (STREAMING)
DESCRIPTION:PRESENTACIÓN \nLa fiscalidad es un factor decisivo en la rentabilidad y en la estructura de cualquier proyecto renovable: desde la fase de desarrollo y los contratos iniciales\, pasando por la construcción y la puesta en marcha\, hasta la operación y la eventual venta de la SPV o reestructuración del grupo. \nEste curso ofrece una visión cronológica y práctica (desarrollo\, construcción\, transacción y producción)\, conectando impuestos\, contratos y decisiones empresariales con la normativa\, la doctrina administrativa y la jurisprudencia más relevante. Está orientado tanto a asesores como a directivos\, promotores\, financiadores e inversores que participan en proyectos fotovoltaicos\, eólicos u otras tecnologías. \n  \nOBJETIVOS \nEntender cómo impacta la fiscalidad en las decisiones clave de los proyectos renovables (estructura\, contratos\, financiación\, inversión/desinversión y operación) y saber identificar riesgos y oportunidades tributarias en cada fase. \n  \nDESTINATARIOS \n\nAsesores fiscales\, economistas\, consultores y personal de despachos (fiscal/mercantil/contable).\nDirectivos y técnicos de empresa\nEmpresas de la cadena de valor: EPC/constructores\, ingenierías\, O&M\, empresas de evacuación\, propietarios de suelo\, agregadores/comercializadoras (por su interacción contractual y fiscal).\nInversores y financiadores.\n\n  \nMETODOLOGÍA \n\nEnfoque cronológico por fases del proyecto: desarrollo → suelo/evacuación → construcción → operación → transacción/reestructuración.\nTrabajo con normativa\, doctrina y jurisprudencia aplicadas.\n\n  \nCONTENIDO \n1) Fase de desarrollo: estructura\, gastos y primeros contratos (IS e IVA) \n2) Terrenos\, derechos y evacuación: suelo\, servidumbres e infraestructuras \n3) SPVs y transacciones: compraventa de sociedades vehículo (share deal) vs activos (asset deal) \n4) Construcción: fiscalidad indirecta y tributos vinculados a obra (IVA\, ICIO) y tasas. \n5) Fiscalidad local y sectorial: IAE\, IBI\, cánones\, gravámenes y su impacto económico \n6) Operación: explotación del activo renovable (IS/IRPF\, IVA\, ingresos/gastos\, deducciones\, PPAs) \n7) Reestructuraciones y operaciones societarias: eficiencia y neutralidad fiscal \n  \nFECHA\, HORARIO Y MODALIDAD \n26 de Febrero de 2026 \nDe 16.30 a 19.30 h \nModalidad: streaming \nRecuerda que la dirección de correo electrónico que figure en el formulario de inscripción es la que se utiliza para dar el alta en la plataforma online y sólo puede utilizarse para un usuario. \n  \nMATRÍCULA \nColegiado: 60 € \nNo colegiados: 100 € \nSocios/personal del colegiado:  80 € \nPlazas gratuitas en streaming para colegiados menores de 30 años. Consulta condiciones  aquí.  Solicita tu plaza en colegioaragon@economistas.org \nEl plazo de inscripción finalizará el 23 de febrero de 2026. Toda inscripción no anulada 24 horas antes del comienzo del curso supondrá el pago íntegro de la matrícula
URL:https://economistasaragon.org/evento/la-fiscalidad-del-sector-de-energias-renovables-aspectos-clave-para-las-empresas-implicadas-streaming/
LOCATION:Curso streaming
CATEGORIES:Cursos y seminarios
ATTACH;FMTTYPE=image/jpeg:https://economistasaragon.org/wp-content/uploads/2026/02/Fiscalidad-renovables.jpg
ORGANIZER;CN="Colegio de Economistas de Arag%C3%B3n":MAILTO:colegioaragon@economistas.org
END:VEVENT
END:VCALENDAR