BEGIN:VCALENDAR
VERSION:2.0
PRODID:-//Colegio de Economistas de Aragón - ECPv6.15.18//NONSGML v1.0//EN
CALSCALE:GREGORIAN
METHOD:PUBLISH
X-ORIGINAL-URL:https://economistasaragon.org
X-WR-CALDESC:Eventos para Colegio de Economistas de Aragón
REFRESH-INTERVAL;VALUE=DURATION:PT1H
X-Robots-Tag:noindex
X-PUBLISHED-TTL:PT1H
BEGIN:VTIMEZONE
TZID:Europe/Madrid
BEGIN:DAYLIGHT
TZOFFSETFROM:+0100
TZOFFSETTO:+0200
TZNAME:CEST
DTSTART:20250330T010000
END:DAYLIGHT
BEGIN:STANDARD
TZOFFSETFROM:+0200
TZOFFSETTO:+0100
TZNAME:CET
DTSTART:20251026T010000
END:STANDARD
BEGIN:DAYLIGHT
TZOFFSETFROM:+0100
TZOFFSETTO:+0200
TZNAME:CEST
DTSTART:20260329T010000
END:DAYLIGHT
BEGIN:STANDARD
TZOFFSETFROM:+0200
TZOFFSETTO:+0100
TZNAME:CET
DTSTART:20261025T010000
END:STANDARD
BEGIN:DAYLIGHT
TZOFFSETFROM:+0100
TZOFFSETTO:+0200
TZNAME:CEST
DTSTART:20270328T010000
END:DAYLIGHT
BEGIN:STANDARD
TZOFFSETFROM:+0200
TZOFFSETTO:+0100
TZNAME:CET
DTSTART:20271031T010000
END:STANDARD
END:VTIMEZONE
BEGIN:VEVENT
DTSTART;TZID=Europe/Madrid:20260210T093000
DTEND;TZID=Europe/Madrid:20260210T133000
DTSTAMP:20260420T230140
CREATED:20260126T102318Z
LAST-MODIFIED:20260126T104250Z
UID:10000428-1770715800-1770730200@economistasaragon.org
SUMMARY:GUÍA PRÁCTICA PARA EL CIERRE FISCAL Y CONTABLE EN LA PYME 2025 (PRESENCIAL)
DESCRIPTION:OBJETIVO: \nAl cierre del ejercicio económico\, todo profesional del ámbito contable entra en ese proceso\, que en ningún caso puede resultar problemático\, de cerrar el ejercicio económico contable de forma correcta sin la sensación de haberse olvidado de algún paso. \nOrientado principalmente al contable de PYME y al personal de despacho de asesoría\, en esta sesión incidiremos las novedades normativas que han entrado en vigor en 2025. \nPROGRAMA: \n\nNuevos tipos de gravamen vigentes y novedades en la Reserva de Capitalización aplicables desde 1/1/2025 po la Ley 7/2024. Consecuencias contables\nNovedades contables y fiscales para 2025: Relacionadas\, entre otros con los RD 16/2025 y resoluciones del ICAC.\nImportes\, plazos y fechas límite.\nEl Importe Neto de la Cifra de Negocios (INCN). Determinación e implicaciones fiscales.\nComprobaciones previas antes de proceder al cierre contable.\nTraspaso a resultados de ingresos a distribuir en varios ejercicios. Subvenciones y donaciones.\nRenovaciones\, ampliaciones y mejoras del inmovilizado material.\nAmortizaciones\, Provisiones y Deterioro de valor.\nPeriodificación de ingresos y gastos. Imputación temporal.\nRegularización de existencias.\nCálculo y contabilización del Impuesto sobre Sociedades. Diferencias permanentes y temporarias. Gastos no deducibles. Activos y pasivos por impuestos diferidos. Las reducciones en base imponible por Reserva de Capitalización\, y por Reserva de Nivelación. Tipos de gravamen. Deducciones Fiscales aplicables en el ejercicio 2025.\nCambios de criterios contables y hechos posteriores al cierre.\nTratamiento de los errores contables\n\n  \nPONENTE: \nJoaquín Pascual García. Colegio de Economistas de Aragón \n  \nFECHA\, HORARIO Y MODALIDAD: \n10 de febrero de 2026 \nDe 09:30 a 13:30 h \nModalidad: presencial \nDON JAIME I\, 16 PPAL IZQ \n  \nMATRÍCULA: \nColegiado: 50 € \nLos colegiados desempleados tienen un descuento del 50% (mandar por correo copia de la tarjeta del Inaem) \nNo colegiados: 85€ \nSocios o personal del colegiado/Trabajadores de departamentos de contabilidad en empresas vinculadas a un economista: 65 € \nPlazas gratuitas para colegiados menores de 30 años (consulta condiciones aquí)\, y alumnos del Máster en Tributación CEA; Solicitar la inscripción enviando email a colegioaragon@economistas.org \nEl plazo de inscripción finalizará el 05 de febrero de 2026. Toda inscripción no anulada 24 horas antes del comienzo del curso supondrá el pago íntegro de la matrícula.
URL:https://economistasaragon.org/evento/guia-practica-para-el-cierre-fiscal-y-contable-en-la-pyme-2025-presencial/
LOCATION:Colegio de Economistas de Aragón\, C/ Don Jaime I\, 16 Ppal Izda\, Zaragoza\, Zaragoza\, 50001\, España
CATEGORIES:Cursos y seminarios
ATTACH;FMTTYPE=image/jpeg:https://economistasaragon.org/wp-content/uploads/2020/06/cursos-fiscal.jpg
ORGANIZER;CN="Colegio de Economistas de Arag%C3%B3n":MAILTO:colegioaragon@economistas.org
END:VEVENT
BEGIN:VEVENT
DTSTART;TZID=Europe/Madrid:20260210T093000
DTEND;TZID=Europe/Madrid:20260210T133000
DTSTAMP:20260420T230140
CREATED:20260126T104116Z
LAST-MODIFIED:20260126T104204Z
UID:10000429-1770715800-1770730200@economistasaragon.org
SUMMARY:GUÍA PRÁCTICA PARA EL CIERRE FISCAL Y CONTABLE EN LA PYME 2025 (STREAMING)
DESCRIPTION:OBJETIVO: \nAl cierre del ejercicio económico\, todo profesional del ámbito contable entra en ese proceso\, que en ningún caso puede resultar problemático\, de cerrar el ejercicio económico contable de forma correcta sin la sensación de haberse olvidado de algún paso. \nOrientado principalmente al contable de PYME y al personal de despacho de asesoría\, en esta sesión incidiremos las novedades normativas que han entrado en vigor en 2025. \nPROGRAMA: \n\nNuevos tipos de gravamen vigentes y novedades en la Reserva de Capitalización aplicables desde 1/1/2025 po la Ley 7/2024. Consecuencias contables\nNovedades contables y fiscales para 2025: Relacionadas\, entre otros con los RD 16/2025 y resoluciones del ICAC.\nImportes\, plazos y fechas límite.\nEl Importe Neto de la Cifra de Negocios (INCN). Determinación e implicaciones fiscales.\nComprobaciones previas antes de proceder al cierre contable.\nTraspaso a resultados de ingresos a distribuir en varios ejercicios. Subvenciones y donaciones.\nRenovaciones\, ampliaciones y mejoras del inmovilizado material.\nAmortizaciones\, Provisiones y Deterioro de valor.\nPeriodificación de ingresos y gastos. Imputación temporal.\nRegularización de existencias.\nCálculo y contabilización del Impuesto sobre Sociedades. Diferencias permanentes y temporarias. Gastos no deducibles. Activos y pasivos por impuestos diferidos. Las reducciones en base imponible por Reserva de Capitalización\, y por Reserva de Nivelación. Tipos de gravamen. Deducciones Fiscales aplicables en el ejercicio 2025.\nCambios de criterios contables y hechos posteriores al cierre.\nTratamiento de los errores contables\n\n  \nPONENTE: \nJoaquín Pascual García. Colegio de Economistas de Aragón \n  \nFECHA\, HORARIO Y MODALIDAD: \n10 de febrero de 2026 \nDe 09:30 a 13:30 h \nModalidad: streaming \nRecuerda que la dirección de correo electrónico que figure en el formulario de inscripción es la que se utiliza para dar el alta en la plataforma online y sólo puede utilizarse para un usuario \n  \nMATRÍCULA: \nColegiado: 50 € \nLos colegiados desempleados tienen un descuento del 50% (mandar por correo copia de la tarjeta del Inaem) \nNo colegiados: 85€ \nSocios o personal del colegiado/Trabajadores de departamentos de contabilidad en empresas vinculadas a un economista: 65 € \nPlazas gratuitas para colegiados menores de 30 años (consulta condiciones aquí)\, y alumnos del Máster en Tributación CEA; Solicitar la inscripción enviando email a colegioaragon@economistas.org \nEl plazo de inscripción finalizará el 05 de febrero de 2026. Toda inscripción no anulada 24 horas antes del comienzo del curso supondrá el pago íntegro de la matrícula.
URL:https://economistasaragon.org/evento/guia-practica-para-el-cierre-fiscal-y-contable-en-la-pyme-2025-streaming/
LOCATION:Curso streaming
CATEGORIES:Cursos y seminarios
ATTACH;FMTTYPE=image/jpeg:https://economistasaragon.org/wp-content/uploads/2020/06/cursos-fiscal.jpg
ORGANIZER;CN="Colegio de Economistas de Arag%C3%B3n":MAILTO:colegioaragon@economistas.org
END:VEVENT
END:VCALENDAR