BEGIN:VCALENDAR
VERSION:2.0
PRODID:-//Colegio de Economistas de Aragón - ECPv6.15.18//NONSGML v1.0//EN
CALSCALE:GREGORIAN
METHOD:PUBLISH
X-ORIGINAL-URL:https://economistasaragon.org
X-WR-CALDESC:Eventos para Colegio de Economistas de Aragón
REFRESH-INTERVAL;VALUE=DURATION:PT1H
X-Robots-Tag:noindex
X-PUBLISHED-TTL:PT1H
BEGIN:VTIMEZONE
TZID:Europe/Madrid
BEGIN:DAYLIGHT
TZOFFSETFROM:+0100
TZOFFSETTO:+0200
TZNAME:CEST
DTSTART:20240331T010000
END:DAYLIGHT
BEGIN:STANDARD
TZOFFSETFROM:+0200
TZOFFSETTO:+0100
TZNAME:CET
DTSTART:20241027T010000
END:STANDARD
BEGIN:DAYLIGHT
TZOFFSETFROM:+0100
TZOFFSETTO:+0200
TZNAME:CEST
DTSTART:20250330T010000
END:DAYLIGHT
BEGIN:STANDARD
TZOFFSETFROM:+0200
TZOFFSETTO:+0100
TZNAME:CET
DTSTART:20251026T010000
END:STANDARD
BEGIN:DAYLIGHT
TZOFFSETFROM:+0100
TZOFFSETTO:+0200
TZNAME:CEST
DTSTART:20260329T010000
END:DAYLIGHT
BEGIN:STANDARD
TZOFFSETFROM:+0200
TZOFFSETTO:+0100
TZNAME:CET
DTSTART:20261025T010000
END:STANDARD
END:VTIMEZONE
BEGIN:VEVENT
DTSTART;TZID=Europe/Madrid:20250919T093000
DTEND;TZID=Europe/Madrid:20250919T133000
DTSTAMP:20260421T073019
CREATED:20250721T081401Z
LAST-MODIFIED:20250909T105524Z
UID:10000414-1758274200-1758288600@economistasaragon.org
SUMMARY:CURSO PRACTICO SOBRE “INCIDENCIAS DETECTADAS EN  LOS PROCESOS DE COMPROBACIÓN DEL ICAC” (Presencial)
DESCRIPTION:Durante la presente sesión formativa trataremos una cuestión del mayor interés para los auditores\, que consistirá en comentar las incidencias más repetitivas detectadas en las comprobaciones (investigaciones e inspecciones) que se efectúan en el ámbito de la supervisión de la actividad de auditoría por el ICAC. Los auditores somos objeto de diferentes comprobaciones por parte del Órgano Supervisor de la profesión (ICAC)\, cuyo objetivo principal es velar por la buena práctica de la profesión. No obstante\, debido a la normativa aplicable\, cada vez más extensa\, el cumplimiento exhaustivo de la misma es objeto de gran preocupación para los auditores. Esta formación pretende informar sobre aquellas incidencias que de forma más repetitiva se detectan en dichas comprobaciones con el objetivo de conocerlas y por tanto establecer las medidas de acciones correctoras para no cometerlas. \nPROGRAMA \n\nExplicaremos de forma resumida los dos tipos de comprobaciones que realiza el supervisor en el ámbito de sus comprobaciones con el objetivo de velar por la correcta práctica en la auditoría de cuentas.\nAnalizaremos las incidencias detectadas en:\n\n\nEn los elementos del SISTEMA DE GESTIÓN DE LA CALIDAD de los auditores.\nIdentificación y valoración de los riesgos.\nCálculo de la materialidad.\nMuestreo\nÁreas concretas: Ventas.\nCompilación.\n\n  \nPONENTE:  \nAntonio Ramiro Jaráiz. \nEconomista Auditor de Cuentas. 22 años de experiencia en la práctica profesional de la auditoría en una big four. Revisor de Control de Calidad en el convenio ICAC-REA+REGA. Colaborador habitual del Departamento de Formación del CGE. Asesor de auditores: implantación de procedimientos técnicos. Miembro del Comité de Auditoría del ICAC en representación del CGE. \n  \nFECHA\, HORARIO Y LUGAR: \n19 de septiembre de 2025 \nDe 09:30 a 13:30 horas \nModalidad: presencial \nColegio de Economistas de Aragón. (Don Jaime I\, 16\, ppal\, izq) \n4 horas en Auditoria  (a efectos de declaración al ROAC).  \n  \nDerechos de Inscripción: \nMiembros del ICJCE y del REA+REGA: sin coste \nPatrocinadores de la Cátedra y sus colaboradores: sin coste \nEl plazo de inscripción finalizará el 17 de septiembre de 2025.  \n 
URL:https://economistasaragon.org/evento/curso-practico-sobre-incidencias-detectadas-en-los-procesos-de-comprobacion-del-icac-presencial/
LOCATION:Colegio de Economistas de Aragón\, C/ Don Jaime I\, 16 Ppal Izda\, Zaragoza\, Zaragoza\, 50001\, España
CATEGORIES:Cursos y seminarios
END:VEVENT
END:VCALENDAR