BEGIN:VCALENDAR
VERSION:2.0
PRODID:-//Colegio de Economistas de Aragón - ECPv6.15.18//NONSGML v1.0//EN
CALSCALE:GREGORIAN
METHOD:PUBLISH
X-ORIGINAL-URL:https://economistasaragon.org
X-WR-CALDESC:Eventos para Colegio de Economistas de Aragón
REFRESH-INTERVAL;VALUE=DURATION:PT1H
X-Robots-Tag:noindex
X-PUBLISHED-TTL:PT1H
BEGIN:VTIMEZONE
TZID:Europe/Madrid
BEGIN:DAYLIGHT
TZOFFSETFROM:+0100
TZOFFSETTO:+0200
TZNAME:CEST
DTSTART:20240331T010000
END:DAYLIGHT
BEGIN:STANDARD
TZOFFSETFROM:+0200
TZOFFSETTO:+0100
TZNAME:CET
DTSTART:20241027T010000
END:STANDARD
BEGIN:DAYLIGHT
TZOFFSETFROM:+0100
TZOFFSETTO:+0200
TZNAME:CEST
DTSTART:20250330T010000
END:DAYLIGHT
BEGIN:STANDARD
TZOFFSETFROM:+0200
TZOFFSETTO:+0100
TZNAME:CET
DTSTART:20251026T010000
END:STANDARD
BEGIN:DAYLIGHT
TZOFFSETFROM:+0100
TZOFFSETTO:+0200
TZNAME:CEST
DTSTART:20260329T010000
END:DAYLIGHT
BEGIN:STANDARD
TZOFFSETFROM:+0200
TZOFFSETTO:+0100
TZNAME:CET
DTSTART:20261025T010000
END:STANDARD
END:VTIMEZONE
BEGIN:VEVENT
DTSTART;TZID=Europe/Madrid:20250520T100000
DTEND;TZID=Europe/Madrid:20250520T140000
DTSTAMP:20260421T152021
CREATED:20250430T084100Z
LAST-MODIFIED:20250430T084100Z
UID:10000407-1747735200-1747749600@economistasaragon.org
SUMMARY:ECONOMISTAS y AUDITORES  ANTE LAS PROVISIONES\, y  LOS ACTIVOS- PASIVOS CONTINGENTES (STREAMING)
DESCRIPTION:A efectos de la formación continuada obligatoria requerida por la vigente Ley de Auditoría de Cuentas\, se homologa con 4 horas en contabilidad \n A efectos de la formación continua requerida por el Registro de Expertos Contables\, se homologa con 4 horas. \n  \nEl objetivo de este seminario es analizar de manera práctica las singularidades en el registro y la información financiera a revelar sobre  las provisiones y las contingencias existentes en el cierre del ejercicio 2024\, rúbricas siempre difusas y enredadas a nivel contable: ¿dónde acaba un pasivo contingente y comienza la provisión? ¿Cuándo resulta posible registrar un activo contingente? ¿Cómo valorar una provisión?. ¿Cómo se deben provisionar las devoluciones de ventas con el PGC2021? ¿Cómo actuar antes las provisiones y contingencias que aparecen en los hechos posteriores antes de formular cuentas? ¿Se consideran fiscalmente deducibles las provisiones contables? Etc. \nCon frecuencia\, las provisiones y las contingencias constituyen una cuestión clave de auditoría y es que el listado de operaciones empresariales afectadas es muy amplio. Destacar en primer lugar\, el actual concepto de provisiones del PGC2008\, que implicó la supresión de conceptos tradicionales (provisión grandes reparaciones\, fondo de reversión\,…) y la simultánea aparición de otras nuevas provisiones (desmantelamiento\, retiro\, rehabilitación\, contratos onerosos\, reestructuraciones de empresas\,…) que por falta de tradición y novedad con frecuencia se les presta insuficiente atención. Recientes Resoluciones del ICAC se han ocupado de algunas provisiones (por ejemplo\, las provisiones para impuestos)\, también figuran en la reforma del PGC-2021 y en la RICAC-2021 sobre el reconocimiento de los ingresos. \nLa contabilización de las provisiones conlleva la aplicación de criterios financieros para actualizar y posteriormente capitalizar los saldos correspondientes. Igualmente es preciso delimitar esta rúbrica y los denominados pasivos contingentes\, siendo en ocasiones muy estrecha frontera que les separa. Este epígrafe contable también juega un papel significativo en el ámbito de las operaciones de fusión\, de escisión y de combinaciones de negocios \nSe analizan las provisiones que han surgido en la normativa contable\, en qué circunstancias se deben contabilizar\, su naturaleza tributaria\, y simultáneamente se detallará el nuevo tratamiento contable para aquellas situaciones que no sea posible provisionar. Igualmente\, resulta gran de interés profesional el análisis de recientes consultas del BOICAC sobre estas problemáticas contables. \n  \nPROGRAMA: \n\nPROVISIONES  Y CIERRE DEL EJERCICIO 2024.\n\n\nConcepto y la ubicación en el balance.\nCasos prácticos de operaciones de\n\n– Creación de provisiones \n– Capitalización y ajustes por cambios en estimaciones de desembolso. \n– Supuestos particulares y casos de empresas \n– Pasivos anexos a la adquisición de activos \n– Cambios derivados de la RICAC 2021 \n2. LAS PROVISIONES EN EL IMPUESTO SOBRE SOCIEDADES. \n3. REEMBOLSOS E INDEMNIZACIONES VINCULADAS A SINIESTROS PROVISIONADOS \n4. LAS PROVISIONES Y LAS CONTINGENCIAS EN EL MARCO DE LAS FUSIONES Y LAS ESCISIONES. \n5. PROVISIONES POR REESTRUCTURACIONES\, POR CONTRATOS ONEROSOS\, POR LITIGIOS\, POR RAZONES MEDIOAMBIENTALES\, POR PAGOS A LARGO PLAZO AL PERSONAL\, PARA IMPUESTOS. CUANDO PROVISIONAR LOS DESMANTELAMIENTOS\, RETIROS Y SIMILARES :  criterios a aplicar . \n6. LOS ACTIVOS Y LOS PASIVOS CONTINGENTES: su reflejo contable. Información a revelar. \n7. NOVEDADES DERIVADAS DEL PGC-2021 Y DE LA IFRS 16. LAS PROVISIONES EN EL ACTUAL CONTEXTO ECONÓMICO. CASOS PRACTICOS\, RECIENTES CONSULTAS DEL BOICAC Y EJEMPLOS DE EMPRESAS. \n  \nPONENTE: \nD. Juan Luis Domínguez. Economista Auditor de Cuentas.  Profesor Titular de Economía Financiera y Contabilidad de la Universidad de Barcelona. \n  \nFECHA\, HORARIO Y MODALIDAD: \n20 de mayo de 2025 \nDe 10:00 a 14:00 h \nModalidad: streaming. \nRecuerda que la dirección de correo electrónico que figure en el formulario de inscripción es la que se utiliza para dar el alta en la plataforma online y sólo puede utilizarse para un usuario. \n  \nMATRÍCULA: \nColegiado/a:  80 € \nNo colegiado/a: 130 € \nSocios/personal del colegiado/a:  100 € \nEl plazo de inscripción finalizará 16 de mayo de 2025. Toda inscripción no anulada 24 horas antes del comienzo del curso supondrá el pago íntegro de la matrícula. No se admitirán cancelaciones de plaza una vez enviado el material del ponente. \n 
URL:https://economistasaragon.org/evento/economistas-y-auditores-ante-las-provisiones-y-los-activos-pasivos-contingentes-streaming/
LOCATION:Curso on-line
CATEGORIES:Cursos y seminarios
ATTACH;FMTTYPE=image/jpeg:https://economistasaragon.org/wp-content/uploads/2020/06/cursos-contabilidad.jpg
ORGANIZER;CN="Colegio de Economistas de Arag%C3%B3n":MAILTO:colegioaragon@economistas.org
END:VEVENT
END:VCALENDAR