BEGIN:VCALENDAR
VERSION:2.0
PRODID:-//Colegio de Economistas de Aragón - ECPv6.15.18//NONSGML v1.0//EN
CALSCALE:GREGORIAN
METHOD:PUBLISH
X-WR-CALNAME:Colegio de Economistas de Aragón
X-ORIGINAL-URL:https://economistasaragon.org
X-WR-CALDESC:Eventos para Colegio de Economistas de Aragón
REFRESH-INTERVAL;VALUE=DURATION:PT1H
X-Robots-Tag:noindex
X-PUBLISHED-TTL:PT1H
BEGIN:VTIMEZONE
TZID:Europe/Madrid
BEGIN:DAYLIGHT
TZOFFSETFROM:+0100
TZOFFSETTO:+0200
TZNAME:CEST
DTSTART:20240331T010000
END:DAYLIGHT
BEGIN:STANDARD
TZOFFSETFROM:+0200
TZOFFSETTO:+0100
TZNAME:CET
DTSTART:20241027T010000
END:STANDARD
BEGIN:DAYLIGHT
TZOFFSETFROM:+0100
TZOFFSETTO:+0200
TZNAME:CEST
DTSTART:20250330T010000
END:DAYLIGHT
BEGIN:STANDARD
TZOFFSETFROM:+0200
TZOFFSETTO:+0100
TZNAME:CET
DTSTART:20251026T010000
END:STANDARD
BEGIN:DAYLIGHT
TZOFFSETFROM:+0100
TZOFFSETTO:+0200
TZNAME:CEST
DTSTART:20260329T010000
END:DAYLIGHT
BEGIN:STANDARD
TZOFFSETFROM:+0200
TZOFFSETTO:+0100
TZNAME:CET
DTSTART:20261025T010000
END:STANDARD
END:VTIMEZONE
BEGIN:VEVENT
DTSTART;TZID=Europe/Madrid:20250512T130000
DTEND;TZID=Europe/Madrid:20250512T160000
DTSTAMP:20260421T153124
CREATED:20250415T113324Z
LAST-MODIFIED:20250415T113530Z
UID:10000406-1747054800-1747065600@economistasaragon.org
SUMMARY:Sesión técnica. Principales servicios de la Central de Balances del Banco de España  y aplicaciones prácticas para los economistas
DESCRIPTION:12 de mayo de 2025 (De 13:00 a 14:00 h) \nAsistencia Gratuita \nSesión on-line \n  \nUna interesante sesión para conocer las herramientas  y aplicaciones prácticas que tiene la central de balances del Banco de España a nuestra disposición (informes\, productos estadísticos\, bases de datos\, aplicaciones…..) \nPROGRAMA: \nIntroducción a la jornada y objetivos \nFuente de datos de los productos: Registro mercantiles y colaboración directa de empresas \nCatálogo general de herramientas de la Central de Balances \nEstudios específicos para las empresas no financieras \n\nEstudio Individual\nEstudio trimestral\nCompara tu empresa\nInformación financiera Pyme\n\nInformación agregada de referencia con interés para uso de economistas (información sectorial y regional) \nCuestionario anual de la Central de Balances \n\nFormatos de colaboración: cuestionario web\, electrónico y pdf editable\n\nDemo. Características y principales diferencias. Facilidades durante la cumplimentación (fichero D2 XBRL) \nCuestionario trimestral \nIntercambio de ideas y experiencias \nPONENTES: \nJulio Gil. Director. Banco de España. Delegación Zaragoza. \nJoaquín Rivero. Responsable de la Unidad de Directorios y Publicaciones. \nJuanjo Pacheco\, Higinio Vargas y José Hernández. Técnicos de la Central de Balances del Banco de España.
URL:https://economistasaragon.org/evento/sesion-tecnica-principales-servicios-de-la-central-de-balances-del-banco-de-espana-y-aplicaciones-practicas-para-los-economistas/
LOCATION:Curso on-line
CATEGORIES:Cursos y seminarios
ATTACH;FMTTYPE=image/jpeg:https://economistasaragon.org/wp-content/uploads/2025/04/Copia-de-Copia-de-Copia-de-Copia-de-Tertulia-economica-20-octubre-1.jpg
END:VEVENT
END:VCALENDAR