BEGIN:VCALENDAR
VERSION:2.0
PRODID:-//Colegio de Economistas de Aragón - ECPv6.15.18//NONSGML v1.0//EN
CALSCALE:GREGORIAN
METHOD:PUBLISH
X-WR-CALNAME:Colegio de Economistas de Aragón
X-ORIGINAL-URL:https://economistasaragon.org
X-WR-CALDESC:Eventos para Colegio de Economistas de Aragón
REFRESH-INTERVAL;VALUE=DURATION:PT1H
X-Robots-Tag:noindex
X-PUBLISHED-TTL:PT1H
BEGIN:VTIMEZONE
TZID:Europe/Madrid
BEGIN:DAYLIGHT
TZOFFSETFROM:+0100
TZOFFSETTO:+0200
TZNAME:CEST
DTSTART:20240331T010000
END:DAYLIGHT
BEGIN:STANDARD
TZOFFSETFROM:+0200
TZOFFSETTO:+0100
TZNAME:CET
DTSTART:20241027T010000
END:STANDARD
BEGIN:DAYLIGHT
TZOFFSETFROM:+0100
TZOFFSETTO:+0200
TZNAME:CEST
DTSTART:20250330T010000
END:DAYLIGHT
BEGIN:STANDARD
TZOFFSETFROM:+0200
TZOFFSETTO:+0100
TZNAME:CET
DTSTART:20251026T010000
END:STANDARD
BEGIN:DAYLIGHT
TZOFFSETFROM:+0100
TZOFFSETTO:+0200
TZNAME:CEST
DTSTART:20260329T010000
END:DAYLIGHT
BEGIN:STANDARD
TZOFFSETFROM:+0200
TZOFFSETTO:+0100
TZNAME:CET
DTSTART:20261025T010000
END:STANDARD
END:VTIMEZONE
BEGIN:VEVENT
DTSTART;TZID=Europe/Madrid:20250912T120000
DTEND;TZID=Europe/Madrid:20250912T140000
DTSTAMP:20260421T072554
CREATED:20250902T090417Z
LAST-MODIFIED:20250902T092018Z
UID:10000415-1757678400-1757685600@economistasaragon.org
SUMMARY:TALLER DE IA APLICADA A LA FISCALIDAD. CASOS DE USO (Streaming)
DESCRIPTION:OBJETIVO: \n Este taller práctico tiene como finalidad introducir a los profesionales de la fiscalidad en el uso de herramientas de inteligencia artificial mediante la resolución de casos reales. Se trata de una formación de iniciación con orientación práctica y continuidad formativa\, enfocada a mejorar la eficiencia en tareas fiscales cotidianas. \n  \nDESTINATARIOS:  \n\nEconomistas especializados en el ámbito tributario\nEconomistas de empresa\nProfesionales del sector económico interesados en iniciarse en el uso de la IA en su actividad profesional\n\n  \nNIVEL: \n\nIniciación al uso de herramientas de IA.\n\n  \nHERRAMIENTAS DE IA UTILIZADAS: \n Durante la sesión se trabajará con diversas plataformas\, tanto gratuitas como de pago: \n\nChatGPT (versión Plus -de pago): Se utilizará principalmente esta versión por sus capacidades avanzadas. No obstante\, los participantes podrán seguir el taller con la versión gratuita\, teniendo en cuenta sus limitaciones (gestión muy limitada de chats.).\nGemini\, de Google (Versión gratuita)\nNotebookLM\, de Google (Versión gratuita)\nGoogle AI Studio (Versión gratuita)\n\nLos conocimientos adquiridos serán aplicables a otras herramientas similares como Copilot\, Claude o Perplexity. \n  \nPROGRAMA: \n\nBreve introducción a la Inteligencia Artifical\n\n\nQué es la IA y cómo entenderla.\nBeneficios de la IA para el Economista.\nLos distintos LLM (IA). Modelos de IA generales vs modelos de razonamiento.\nAspectos prácticos\n\n2. La importancia de una buena instrucción: EL PROMPT. Creación eficiente de prompts. \n\nLas alucinaciones de la IA como gran obstaculo de su uso para las relaciones jurídico-tributarias\nCASO PRÁCTICO 1: Localización (eficiente) de consultas vinculantes\n\n3. Interpretación de normativa. CASO PRÁCTICO 2: La interpretación de los convenios de doble imposición internacional (CDI). \n4. Extraer datos de un documento extenso\, que permita sintetizar datos para la tramitación de impuestos y otras tareas. \n\nLa protección de datos de carácter personal. Problemática y soluciones.\nCASO PRÁCTICO 3: Obtención de datos de una escritura de herencia para la tramitación del ISD\, el IIVTNU\, y tramitación en registros públicos.\n\n5. Potencias el aprendizaje. Aprender con la IA. CASO PRÁCTICO 4: Desarrollo de un plan formativo para aprender una materia tributaria concreta. \n6. Mejora de la productividad. CASO PRÁCTICO 5: Transcripciones de audio y vídeo\, resúmenes de formación\, de una conferencia\, levantamiento del acta de una reunión\, … \n  \nDOCUMENTACIÓN: El material que se facilite incluirá los archivos necesarios para resolver los casos prácticos\, así como los prompts que se van a utilizar en el taller. \n  \nImparte: Joaquín Pascual. Economista REAF. Colegio de Economistas de Aragón \n  \nFECHA\, HORARIO Y MODALIDAD \n12 de Septiembre de 2025 \nDe 12.00 a14.00 h \nModalidad: streaming \nRecuerda que la dirección de correo electrónico que figure en el formulario de inscripción es la que se utiliza para dar el alta en la plataforma online y sólo puede utilizarse para un usuario. \n  \nMATRÍCULA \nMiembros REAF: 20 € \nColegiado: 40 € \nNo colegiado: 60 € \n(Plazas gratuitas para colegiados menores de 30 años. Consulta condiciones aquí. Solicita tu plaza en colegioaragon@economistas.org) \nEl plazo de inscripción finalizará el 10 de septiembre de 2025. Toda inscripción no anulada 24 horas antes del comienzo del curso supondrá el pago íntegro de la matrícula. No se admitirán cancelaciones de plaza una vez enviado el material del ponente.
URL:https://economistasaragon.org/evento/taller-de-ia-aplicada-a-la-fiscalidad-casos-de-uso/
LOCATION:Curso streaming
CATEGORIES:Cursos y seminarios
ORGANIZER;CN="Colegio de Economistas de Arag%C3%B3n":MAILTO:colegioaragon@economistas.org
END:VEVENT
BEGIN:VEVENT
DTSTART;TZID=Europe/Madrid:20250919T093000
DTEND;TZID=Europe/Madrid:20250919T133000
DTSTAMP:20260421T072554
CREATED:20250721T081401Z
LAST-MODIFIED:20250909T105524Z
UID:10000414-1758274200-1758288600@economistasaragon.org
SUMMARY:CURSO PRACTICO SOBRE “INCIDENCIAS DETECTADAS EN  LOS PROCESOS DE COMPROBACIÓN DEL ICAC” (Presencial)
DESCRIPTION:Durante la presente sesión formativa trataremos una cuestión del mayor interés para los auditores\, que consistirá en comentar las incidencias más repetitivas detectadas en las comprobaciones (investigaciones e inspecciones) que se efectúan en el ámbito de la supervisión de la actividad de auditoría por el ICAC. Los auditores somos objeto de diferentes comprobaciones por parte del Órgano Supervisor de la profesión (ICAC)\, cuyo objetivo principal es velar por la buena práctica de la profesión. No obstante\, debido a la normativa aplicable\, cada vez más extensa\, el cumplimiento exhaustivo de la misma es objeto de gran preocupación para los auditores. Esta formación pretende informar sobre aquellas incidencias que de forma más repetitiva se detectan en dichas comprobaciones con el objetivo de conocerlas y por tanto establecer las medidas de acciones correctoras para no cometerlas. \nPROGRAMA \n\nExplicaremos de forma resumida los dos tipos de comprobaciones que realiza el supervisor en el ámbito de sus comprobaciones con el objetivo de velar por la correcta práctica en la auditoría de cuentas.\nAnalizaremos las incidencias detectadas en:\n\n\nEn los elementos del SISTEMA DE GESTIÓN DE LA CALIDAD de los auditores.\nIdentificación y valoración de los riesgos.\nCálculo de la materialidad.\nMuestreo\nÁreas concretas: Ventas.\nCompilación.\n\n  \nPONENTE:  \nAntonio Ramiro Jaráiz. \nEconomista Auditor de Cuentas. 22 años de experiencia en la práctica profesional de la auditoría en una big four. Revisor de Control de Calidad en el convenio ICAC-REA+REGA. Colaborador habitual del Departamento de Formación del CGE. Asesor de auditores: implantación de procedimientos técnicos. Miembro del Comité de Auditoría del ICAC en representación del CGE. \n  \nFECHA\, HORARIO Y LUGAR: \n19 de septiembre de 2025 \nDe 09:30 a 13:30 horas \nModalidad: presencial \nColegio de Economistas de Aragón. (Don Jaime I\, 16\, ppal\, izq) \n4 horas en Auditoria  (a efectos de declaración al ROAC).  \n  \nDerechos de Inscripción: \nMiembros del ICJCE y del REA+REGA: sin coste \nPatrocinadores de la Cátedra y sus colaboradores: sin coste \nEl plazo de inscripción finalizará el 17 de septiembre de 2025.  \n 
URL:https://economistasaragon.org/evento/curso-practico-sobre-incidencias-detectadas-en-los-procesos-de-comprobacion-del-icac-presencial/
LOCATION:Colegio de Economistas de Aragón\, C/ Don Jaime I\, 16 Ppal Izda\, Zaragoza\, Zaragoza\, 50001\, España
CATEGORIES:Cursos y seminarios
END:VEVENT
BEGIN:VEVENT
DTSTART;TZID=Europe/Madrid:20250926T093000
DTEND;TZID=Europe/Madrid:20250926T143000
DTSTAMP:20260421T072554
CREATED:20250716T085648Z
LAST-MODIFIED:20250905T082258Z
UID:10000413-1758879000-1758897000@economistasaragon.org
SUMMARY:CURSO PRÁCTICO PRESENCIAL: “HERRAMIENTAS DE IA Generativa PARA AUDITORES”
DESCRIPTION:A efectos de la formación continuada obligatoria requerida por la vigente Ley de Auditoría de Cuentas\, se homologa con 5 horas de otras materias. \n A efectos de la formación continua requerida por el Registro de Expertos Contables\,  se homologa con 5 horas. \n  \nLa inteligencia artificial generativa (IAG) está transformando la auditoría al automatizar tareas\, mejorar la eficiencia y proporcionar análisis más profundos. A lo largo de 5 horas totalmente prácticas\, resolveremos problemas concretos de auditoría con un profesor especializado combinando inteligencia artificial\, HTML y Excel\, con la sencillez de un entorno sin código. \nAplicaciones prácticas para casos concretos\, como\, por ejemplo: \n\nDetectar anomalías en facturas\nDetectar apuntes contables indicadores de fraudes\nGenerar muestreos inteligentes\nConciliar respuestas intragrupo\nAnalizar documentación.\n\nEl curso es totalmente práctico\, únicamente PRESENCIAL y limitado a 15 participantes cómo máximo.  Cada participante podrá traer su portátil: \n\nUtilizaremos Chat GPT. La versión gratuita tiene una limitación en cuanto al número de preguntas que se pueden hacer de modo que\, para poder trabajar sin límite\, os recomendamos tener la versión Plus (20 euros/mes).\nRecomendable Office 365 (las versiones posteriores de la 2013 también funcionan).\n\n  \nPONENTE: \nAlfonso López Viñegla. Economista. Profesor titular de la Universidad de Zaragoza. \n  \nFECHA\, HORARIO Y LUGAR: \n23 de septiembre de 2025 \nDe 9:30 a 14:30 h \nDon Jaime I\, 16\, Ppal. izq. \nEl curso es presencial y totalmente práctico\, limitado a 15 plazas que se concederán por riguroso orden de inscripción.  \nSi se agotan las  plazas podrá abrirse una nueva edición. \nMaterial incluido: Apps HTML potenciadas por IA\, ficheros Excel con macros inteligentes y manual de usuario. \n  \nMATRÍCULA \nMiembro REA\, EC y REC : 80 € \nColegiado/a:  100 € \nNo colegiado/a: 160 € \nSocios/personal del colegiado/a:  130 € \nEl plazo de inscripción finalizará 18 de septiembre 2025. Toda inscripción no anulada 24 horas antes del comienzo del curso supondrá el pago íntegro de la matrícula. No se admitirán cancelaciones de plaza una vez enviado el material del ponente.
URL:https://economistasaragon.org/evento/curso-practico-presencial-herramientas-de-ia-generativa-para-auditores/
LOCATION:Colegio de Economistas de Aragón\, C/ Don Jaime I\, 16 Ppal Izda\, Zaragoza\, Zaragoza\, 50001\, España
CATEGORIES:Cursos y seminarios
ORGANIZER;CN="Colegio de Economistas de Arag%C3%B3n":MAILTO:colegioaragon@economistas.org
END:VEVENT
BEGIN:VEVENT
DTSTART;TZID=Europe/Madrid:20250930T170000
DTEND;TZID=Europe/Madrid:20250930T193000
DTSTAMP:20260421T072554
CREATED:20250905T084747Z
LAST-MODIFIED:20250905T084747Z
UID:10000416-1759251600-1759260600@economistasaragon.org
SUMMARY:INVERSIÓN DEL SUJETO PASIVO Y SECTOR INMOBILIARIO EN EL IVA (Presencial)
DESCRIPTION:A efectos de la formación continuada obligatoria requerida por la vigente Ley de Auditoría de Cuentas\, se homologa con 2\,5 horas en otras materias \n A efectos de la formación continua requerida por el Registro de Expertos Contables\, se homologa con 2\,5 horas \n  \nPROGRAMA \nEl sector inmobiliario supone\, en relación con el IVA\, una parte importante de la operatoria sujeta al impuesto\, pues\, al margen de su importancia recaudatoria\, un importante porcentaje de los declarantes pertenecen a este sector. \nEn este curso se  abordarán las principales cuestiones conflictivas\, distinguiéndose los siguientes extremos: las excepciones a la regla general de inversión del sujeto pasivo cuando este es un empresario o profesional no establecido en el territorio de aplicación del impuesto; las transmisiones inmobiliarias que son objeto de renuncia a la exención o se producen en el seno de un concurso o en ejecución de garantías; las ejecuciones de obra inmobiliarias\, ya se trate de entregas o de prestaciones de servicios. \n1.- Cuestiones generales: \n1.1.- Importancia del sector inmobiliario en el IVA. \n1.2.- Visión general de la problemática que suscita el sector inmobiliario en el IVA. \n2.- La inversión del sujeto pasivo\, planteamiento general: \n2.1.- Normativa reguladora. \n2.2.- Condiciones generales de aplicación del supuesto de inversión del sujeto pasivo. \n2.3.- Problemática que suscitan las reglas de localización: la inclusión de presunciones y ficciones jurídicas. \n3.- Empresarios no establecidos y excepciones a la regla general de inversión del sujeto pasivo: \n3.1.- Servicios relacionados con bienes inmuebles\, localizados donde radique el bien inmueble. \n3.2.- Arrendamientos de bienes inmuebles. \n3.3.- Intermediación en el arrendamiento de bienes inmuebles. \n3.4.- Normativa europea y transposición al ordenamiento español: tributación de los arrendamientos de viviendas turísticas. \n4.- Las entregas de bienes inmuebles en procesos concursales: \n4.1.- Normativa. \n4.2.- Jurisprudencia del TJUE. \n4.3.- Interpretación administrativa. \n5.- Entregas de bienes inmuebles en las que se renuncia a la exención: \n5.1.- Marco objetivo de aplicación de la regla de inversión del sujeto pasivo. \n5.2.- Vinculación con la delimitación de las operaciones inmobiliarias exentas. \n5.3.- Obligaciones formales. \n6.- Entregas de bienes inmuebles en ejecución de garantías: \n6.1.- Normativa reguladora: la Directiva IVA y la LIVA. \n6.2.- Marco objetivo de aplicación \n6.3.- Condiciones formales. \n6.4.- Examen de la doctrina administrativa. \n7.- Ejecuciones de obra inmobiliaria e inversión del sujeto pasivo. \n7.1.- Delimitación del supuesto. \n7.2.- Ámbito subjetivo. \n7.3.- Marco objetivo de aplicación. \n7.4.- Obligaciones formales. \n7.- Responsabilidad / Infracciones tributarias. \n7.1.- Supuestos de responsabilidad solidaria. \n7.2.- Infracciones y sanciones. \n7.3.- Jurisprudencia del TS sobre la falta de declaración de las operaciones por parte del destinatario sujeto pasivo por inversión. \n  \nPONENTE \nD. Antonio Longas Lafuente. Inspector de Hacienda de la AEAT (Madrid). \n  \nFECHA\, HORARIO Y MODALIDAD \n 30 de septiembre de 2025 \nDe 17:00 a 19:30 h \nModalidad: Presencial (DON JAIME I\, 16 PPAL IZQ) \n  \nMATRÍCULA \nColegiado/a: 50 € \nNo colegiado/a: 80 € \nSocios/personal del colegiado/a:  65 € \n(Plazas gratuitas en streaming para colegiados menores de 30 años y 50% para colegiados jubilados. Solicita tu plaza en colegioaragon@economistas.org) \nEl plazo de inscripción finalizará el 26 de septiembre de 2025. Toda inscripción no anulada 24 horas antes del comienzo del curso supondrá el pago íntegro de la matrícula.
URL:https://economistasaragon.org/evento/inversion-del-sujeto-pasivo-y-sector-inmobiliario-en-el-iva-presencial/
LOCATION:Colegio de Economistas de Aragón\, C/ Don Jaime I\, 16 Ppal Izda\, Zaragoza\, Zaragoza\, 50001\, España
CATEGORIES:Cursos y seminarios
ATTACH;FMTTYPE=image/jpeg:https://economistasaragon.org/wp-content/uploads/2020/06/cursos-fiscal.jpg
ORGANIZER;CN="Colegio de Economistas de Arag%C3%B3n":MAILTO:colegioaragon@economistas.org
END:VEVENT
BEGIN:VEVENT
DTSTART;TZID=Europe/Madrid:20250930T170000
DTEND;TZID=Europe/Madrid:20250930T193000
DTSTAMP:20260421T072554
CREATED:20250905T091656Z
LAST-MODIFIED:20250905T091656Z
UID:10000417-1759251600-1759260600@economistasaragon.org
SUMMARY:INVERSIÓN DEL SUJETO PASIVO Y SECTOR INMOBILIARIO EN EL IVA (Streaming)
DESCRIPTION:A efectos de la formación continuada obligatoria requerida por la vigente Ley de Auditoría de Cuentas\, se homologa con 2\,5 horas en otras materias \n A efectos de la formación continua requerida por el Registro de Expertos Contables\, se homologa con 2\,5 horas \n  \nPROGRAMA \nEl sector inmobiliario supone\, en relación con el IVA\, una parte importante de la operatoria sujeta al impuesto\, pues\, al margen de su importancia recaudatoria\, un importante porcentaje de los declarantes pertenecen a este sector. \nEn este curso se  abordarán las principales cuestiones conflictivas\, distinguiéndose los siguientes extremos: las excepciones a la regla general de inversión del sujeto pasivo cuando este es un empresario o profesional no establecido en el territorio de aplicación del impuesto; las transmisiones inmobiliarias que son objeto de renuncia a la exención o se producen en el seno de un concurso o en ejecución de garantías; las ejecuciones de obra inmobiliarias\, ya se trate de entregas o de prestaciones de servicios. \n1.- Cuestiones generales: \n1.1.- Importancia del sector inmobiliario en el IVA. \n1.2.- Visión general de la problemática que suscita el sector inmobiliario en el IVA. \n2.- La inversión del sujeto pasivo\, planteamiento general: \n2.1.- Normativa reguladora. \n2.2.- Condiciones generales de aplicación del supuesto de inversión del sujeto pasivo. \n2.3.- Problemática que suscitan las reglas de localización: la inclusión de presunciones y ficciones jurídicas. \n3.- Empresarios no establecidos y excepciones a la regla general de inversión del sujeto pasivo: \n3.1.- Servicios relacionados con bienes inmuebles\, localizados donde radique el bien inmueble. \n3.2.- Arrendamientos de bienes inmuebles. \n3.3.- Intermediación en el arrendamiento de bienes inmuebles. \n3.4.- Normativa europea y transposición al ordenamiento español: tributación de los arrendamientos de viviendas turísticas. \n4.- Las entregas de bienes inmuebles en procesos concursales: \n4.1.- Normativa. \n4.2.- Jurisprudencia del TJUE. \n4.3.- Interpretación administrativa. \n5.- Entregas de bienes inmuebles en las que se renuncia a la exención: \n5.1.- Marco objetivo de aplicación de la regla de inversión del sujeto pasivo. \n5.2.- Vinculación con la delimitación de las operaciones inmobiliarias exentas. \n5.3.- Obligaciones formales. \n6.- Entregas de bienes inmuebles en ejecución de garantías: \n6.1.- Normativa reguladora: la Directiva IVA y la LIVA. \n6.2.- Marco objetivo de aplicación \n6.3.- Condiciones formales. \n6.4.- Examen de la doctrina administrativa. \n7.- Ejecuciones de obra inmobiliaria e inversión del sujeto pasivo. \n7.1.- Delimitación del supuesto. \n7.2.- Ámbito subjetivo. \n7.3.- Marco objetivo de aplicación. \n7.4.- Obligaciones formales. \n7.- Responsabilidad / Infracciones tributarias. \n7.1.- Supuestos de responsabilidad solidaria. \n7.2.- Infracciones y sanciones. \n7.3.- Jurisprudencia del TS sobre la falta de declaración de las operaciones por parte del destinatario sujeto pasivo por inversión. \n  \nPONENTE \nD. Antonio Longas Lafuente. Inspector de Hacienda de la AEAT (Madrid). \n  \nFECHA\, HORARIO Y MODALIDAD \n 30 de septiembre de 2025 \nDe 17:00 a 19:30 h \nModalidad: Streaming (esta modalidad es exclusiva para asistentes de fuera de Zaragoza) \nRecuerda que la dirección de correo electrónico que figure en el formulario de inscripción es la que se utiliza para dar el alta en la plataforma online y sólo puede utilizarse para un usuario. \n  \nMATRÍCULA \nColegiado/a: 50 € \nNo colegiado/a: 80 € \nSocios/personal del colegiado/a:  65 € \n(Plazas gratuitas en streaming para colegiados menores de 30 años y 50% para colegiados jubilados. Solicita tu plaza en colegioaragon@economistas.org) \nEl plazo de inscripción finalizará el 26 de septiembre de 2025. Toda inscripción no anulada 24 horas antes del comienzo del curso supondrá el pago íntegro de la matrícula.
URL:https://economistasaragon.org/evento/inversion-del-sujeto-pasivo-y-sector-inmobiliario-en-el-iva-streaming/
LOCATION:Colegio de Economistas de Aragón\, C/ Don Jaime I\, 16 Ppal Izda\, Zaragoza\, Zaragoza\, 50001\, España
CATEGORIES:Cursos y seminarios
ATTACH;FMTTYPE=image/jpeg:https://economistasaragon.org/wp-content/uploads/2020/06/cursos-fiscal.jpg
ORGANIZER;CN="Colegio de Economistas de Arag%C3%B3n":MAILTO:colegioaragon@economistas.org
END:VEVENT
END:VCALENDAR