BEGIN:VCALENDAR
VERSION:2.0
PRODID:-//Colegio de Economistas de Aragón - ECPv6.15.18//NONSGML v1.0//EN
CALSCALE:GREGORIAN
METHOD:PUBLISH
X-WR-CALNAME:Colegio de Economistas de Aragón
X-ORIGINAL-URL:https://economistasaragon.org
X-WR-CALDESC:Eventos para Colegio de Economistas de Aragón
REFRESH-INTERVAL;VALUE=DURATION:PT1H
X-Robots-Tag:noindex
X-PUBLISHED-TTL:PT1H
BEGIN:VTIMEZONE
TZID:Europe/Madrid
BEGIN:DAYLIGHT
TZOFFSETFROM:+0100
TZOFFSETTO:+0200
TZNAME:CEST
DTSTART:20220327T010000
END:DAYLIGHT
BEGIN:STANDARD
TZOFFSETFROM:+0200
TZOFFSETTO:+0100
TZNAME:CET
DTSTART:20221030T010000
END:STANDARD
BEGIN:DAYLIGHT
TZOFFSETFROM:+0100
TZOFFSETTO:+0200
TZNAME:CEST
DTSTART:20230326T010000
END:DAYLIGHT
BEGIN:STANDARD
TZOFFSETFROM:+0200
TZOFFSETTO:+0100
TZNAME:CET
DTSTART:20231029T010000
END:STANDARD
BEGIN:DAYLIGHT
TZOFFSETFROM:+0100
TZOFFSETTO:+0200
TZNAME:CEST
DTSTART:20240331T010000
END:DAYLIGHT
BEGIN:STANDARD
TZOFFSETFROM:+0200
TZOFFSETTO:+0100
TZNAME:CET
DTSTART:20241027T010000
END:STANDARD
END:VTIMEZONE
BEGIN:VEVENT
DTSTART;TZID=Europe/Madrid:20230911T180000
DTEND;TZID=Europe/Madrid:20230925T193000
DTSTAMP:20260423T173623
CREATED:20230912T072437Z
LAST-MODIFIED:20230912T073346Z
UID:10000344-1694455200-1695670200@economistasaragon.org
SUMMARY:XIV CICLO DE ECONOMIA Y CINE DE ZARAGOZA 2023
DESCRIPTION:11\, 18 Y 25 DE SEPTIEMBRE DE 2023 \nIbercaja\, Patio de la Infanta. \nEntrada gratuita previa inscripción en la página de Fundación Ibercaja \nMás información sobre el Ciclo de Economía y Cine\, pincha aquí.
URL:https://economistasaragon.org/evento/xiv-ciclo-de-economia-y-cine-de-zaragoza-2023/
CATEGORIES:Actividades socio-culturales
ATTACH;FMTTYPE=image/jpeg:https://economistasaragon.org/wp-content/uploads/2023/09/CINE.jpg
END:VEVENT
END:VCALENDAR