BEGIN:VCALENDAR
VERSION:2.0
PRODID:-//Colegio de Economistas de Aragón - ECPv6.15.18//NONSGML v1.0//EN
CALSCALE:GREGORIAN
METHOD:PUBLISH
X-WR-CALNAME:Colegio de Economistas de Aragón
X-ORIGINAL-URL:https://economistasaragon.org
X-WR-CALDESC:Eventos para Colegio de Economistas de Aragón
REFRESH-INTERVAL;VALUE=DURATION:PT1H
X-Robots-Tag:noindex
X-PUBLISHED-TTL:PT1H
BEGIN:VTIMEZONE
TZID:Europe/Madrid
BEGIN:DAYLIGHT
TZOFFSETFROM:+0100
TZOFFSETTO:+0200
TZNAME:CEST
DTSTART:20240331T010000
END:DAYLIGHT
BEGIN:STANDARD
TZOFFSETFROM:+0200
TZOFFSETTO:+0100
TZNAME:CET
DTSTART:20241027T010000
END:STANDARD
BEGIN:DAYLIGHT
TZOFFSETFROM:+0100
TZOFFSETTO:+0200
TZNAME:CEST
DTSTART:20250330T010000
END:DAYLIGHT
BEGIN:STANDARD
TZOFFSETFROM:+0200
TZOFFSETTO:+0100
TZNAME:CET
DTSTART:20251026T010000
END:STANDARD
BEGIN:DAYLIGHT
TZOFFSETFROM:+0100
TZOFFSETTO:+0200
TZNAME:CEST
DTSTART:20260329T010000
END:DAYLIGHT
BEGIN:STANDARD
TZOFFSETFROM:+0200
TZOFFSETTO:+0100
TZNAME:CET
DTSTART:20261025T010000
END:STANDARD
END:VTIMEZONE
BEGIN:VEVENT
DTSTART;TZID=Europe/Madrid:20251023T163000
DTEND;TZID=Europe/Madrid:20251023T193000
DTSTAMP:20260421T033456
CREATED:20250929T083146Z
LAST-MODIFIED:20250929T105608Z
UID:10000418-1761237000-1761247800@economistasaragon.org
SUMMARY:ACTUALIDAD TRIBUTARIA EN ARAGÓN (PRESENCIAL)
DESCRIPTION:PROGRAMA \nEn la sesión se analizarán las siguientes cuestiones sobre las Novedades legislativas\, jurisprudenciales y criterios administrativos sobre la transmisión de la empresa familiar: \n\nLey 3/2025 sobre fiscalidad de la empresa familiar.\n\nSentencias del TS sobre esa materia e Instrucción 1/2025 sobre tributación de la conmutación del usufructo. \n  \n PONENTE \n          D. Francisco Pozuelo Antoni. Director General de Tributos del Gobierno de Aragón. \n  \nFECHA\, HORARIO Y MODALIDAD \n23 de octubre de 2025 \nDe 16:30 a 19:30 h \nModalidad: presencial \nDON JAIME I\, 16 PPAL IZQ \n  \nMATRÍCULA  \nColegiado:  60 € \nNo colegiados: 100 € \nSocios/personal del colegiado:  75 € \n(Plazas gratuitas para colegiados menores de 30 años. Consulta condiciones aquí. Solicita tu plaza en    colegioaragon@economistas.org) \nEl plazo de inscripción finalizará el 20 de octubre de 2025  . Toda inscripción no anulada 24 horas antes del comienzo del curso supondrá el pago íntegro de la matrícula. No se admitirán cancelaciones de plaza una vez enviado el material del ponente.
URL:https://economistasaragon.org/evento/actualidad-tributaria-en-aragon-presencial-3/
LOCATION:Colegio de Economistas de Aragón\, C/ Don Jaime I\, 16 Ppal Izda\, Zaragoza\, Zaragoza\, 50001\, España
CATEGORIES:Cursos y seminarios
ATTACH;FMTTYPE=image/jpeg:https://economistasaragon.org/wp-content/uploads/2020/06/cursos-fiscal.jpg
ORGANIZER;CN="Colegio de Economistas de Arag%C3%B3n":MAILTO:colegioaragon@economistas.org
END:VEVENT
BEGIN:VEVENT
DTSTART;TZID=Europe/Madrid:20251023T163000
DTEND;TZID=Europe/Madrid:20251023T193000
DTSTAMP:20260421T033456
CREATED:20250929T085111Z
LAST-MODIFIED:20250929T105514Z
UID:10000419-1761237000-1761247800@economistasaragon.org
SUMMARY:ACTUALIDAD TRIBUTARIA EN ARAGÓN (STREAMING)
DESCRIPTION:PROGRAMA \nEn la sesión se analizarán las siguientes cuestiones sobre las Novedades legislativas\, jurisprudenciales y criterios administrativos sobre la transmisión de la empresa familiar: \n\nLey 3/2025 sobre fiscalidad de la empresa familiar.\n\nSentencias del TS sobre esa materia e Instrucción 1/2025 sobre tributación de la conmutación del usufructo. \n  \n PONENTE \n          D. Francisco Pozuelo Antoni. Director General de Tributos del Gobierno de Aragón. \n  \nFECHA\, HORARIO Y MODALIDAD \n23 de octubre de 2025 \nDe 16:30 a 19:30 h \nModalidad: streaming (la modalidad streaming es exclusiva para asistentes de fuera de Zaragoza) \nRecuerda que la dirección de correo electrónico que figure en el formulario de inscripción es la que se utiliza para dar el alta en la plataforma online y sólo puede utilizarse para un usuario. \n  \nMATRÍCULA \nColegiado:  60 € \nNo colegiados: 100 € \nSocios/personal del colegiado:  75 € \n(Plazas gratuitas para colegiados menores de 30 años. Consulta condiciones aquí. Solicita tu plaza en    colegioaragon@economistas.org) \nEl plazo de inscripción finalizará el 20 de octubre de 2025  . Toda inscripción no anulada 24 horas antes del comienzo del curso supondrá el pago íntegro de la matrícula. No se admitirán cancelaciones de plaza una vez enviado el material del ponente
URL:https://economistasaragon.org/evento/actualidad-tributaria-en-aragon-streaming-4/
LOCATION:Curso streaming
CATEGORIES:Cursos y seminarios
ATTACH;FMTTYPE=image/jpeg:https://economistasaragon.org/wp-content/uploads/2020/06/cursos-fiscal.jpg
ORGANIZER;CN="Colegio de Economistas de Arag%C3%B3n":MAILTO:colegioaragon@economistas.org
END:VEVENT
END:VCALENDAR