BEGIN:VCALENDAR
VERSION:2.0
PRODID:-//Colegio de Economistas de Aragón - ECPv6.15.18//NONSGML v1.0//EN
CALSCALE:GREGORIAN
METHOD:PUBLISH
X-WR-CALNAME:Colegio de Economistas de Aragón
X-ORIGINAL-URL:https://economistasaragon.org
X-WR-CALDESC:Eventos para Colegio de Economistas de Aragón
REFRESH-INTERVAL;VALUE=DURATION:PT1H
X-Robots-Tag:noindex
X-PUBLISHED-TTL:PT1H
BEGIN:VTIMEZONE
TZID:Europe/Madrid
BEGIN:DAYLIGHT
TZOFFSETFROM:+0100
TZOFFSETTO:+0200
TZNAME:CEST
DTSTART:20240331T010000
END:DAYLIGHT
BEGIN:STANDARD
TZOFFSETFROM:+0200
TZOFFSETTO:+0100
TZNAME:CET
DTSTART:20241027T010000
END:STANDARD
BEGIN:DAYLIGHT
TZOFFSETFROM:+0100
TZOFFSETTO:+0200
TZNAME:CEST
DTSTART:20250330T010000
END:DAYLIGHT
BEGIN:STANDARD
TZOFFSETFROM:+0200
TZOFFSETTO:+0100
TZNAME:CET
DTSTART:20251026T010000
END:STANDARD
BEGIN:DAYLIGHT
TZOFFSETFROM:+0100
TZOFFSETTO:+0200
TZNAME:CEST
DTSTART:20260329T010000
END:DAYLIGHT
BEGIN:STANDARD
TZOFFSETFROM:+0200
TZOFFSETTO:+0100
TZNAME:CET
DTSTART:20261025T010000
END:STANDARD
END:VTIMEZONE
BEGIN:VEVENT
DTSTART;TZID=Europe/Madrid:20250912T120000
DTEND;TZID=Europe/Madrid:20250912T140000
DTSTAMP:20260421T052411
CREATED:20250902T090417Z
LAST-MODIFIED:20250902T092018Z
UID:10000415-1757678400-1757685600@economistasaragon.org
SUMMARY:TALLER DE IA APLICADA A LA FISCALIDAD. CASOS DE USO (Streaming)
DESCRIPTION:OBJETIVO: \n Este taller práctico tiene como finalidad introducir a los profesionales de la fiscalidad en el uso de herramientas de inteligencia artificial mediante la resolución de casos reales. Se trata de una formación de iniciación con orientación práctica y continuidad formativa\, enfocada a mejorar la eficiencia en tareas fiscales cotidianas. \n  \nDESTINATARIOS:  \n\nEconomistas especializados en el ámbito tributario\nEconomistas de empresa\nProfesionales del sector económico interesados en iniciarse en el uso de la IA en su actividad profesional\n\n  \nNIVEL: \n\nIniciación al uso de herramientas de IA.\n\n  \nHERRAMIENTAS DE IA UTILIZADAS: \n Durante la sesión se trabajará con diversas plataformas\, tanto gratuitas como de pago: \n\nChatGPT (versión Plus -de pago): Se utilizará principalmente esta versión por sus capacidades avanzadas. No obstante\, los participantes podrán seguir el taller con la versión gratuita\, teniendo en cuenta sus limitaciones (gestión muy limitada de chats.).\nGemini\, de Google (Versión gratuita)\nNotebookLM\, de Google (Versión gratuita)\nGoogle AI Studio (Versión gratuita)\n\nLos conocimientos adquiridos serán aplicables a otras herramientas similares como Copilot\, Claude o Perplexity. \n  \nPROGRAMA: \n\nBreve introducción a la Inteligencia Artifical\n\n\nQué es la IA y cómo entenderla.\nBeneficios de la IA para el Economista.\nLos distintos LLM (IA). Modelos de IA generales vs modelos de razonamiento.\nAspectos prácticos\n\n2. La importancia de una buena instrucción: EL PROMPT. Creación eficiente de prompts. \n\nLas alucinaciones de la IA como gran obstaculo de su uso para las relaciones jurídico-tributarias\nCASO PRÁCTICO 1: Localización (eficiente) de consultas vinculantes\n\n3. Interpretación de normativa. CASO PRÁCTICO 2: La interpretación de los convenios de doble imposición internacional (CDI). \n4. Extraer datos de un documento extenso\, que permita sintetizar datos para la tramitación de impuestos y otras tareas. \n\nLa protección de datos de carácter personal. Problemática y soluciones.\nCASO PRÁCTICO 3: Obtención de datos de una escritura de herencia para la tramitación del ISD\, el IIVTNU\, y tramitación en registros públicos.\n\n5. Potencias el aprendizaje. Aprender con la IA. CASO PRÁCTICO 4: Desarrollo de un plan formativo para aprender una materia tributaria concreta. \n6. Mejora de la productividad. CASO PRÁCTICO 5: Transcripciones de audio y vídeo\, resúmenes de formación\, de una conferencia\, levantamiento del acta de una reunión\, … \n  \nDOCUMENTACIÓN: El material que se facilite incluirá los archivos necesarios para resolver los casos prácticos\, así como los prompts que se van a utilizar en el taller. \n  \nImparte: Joaquín Pascual. Economista REAF. Colegio de Economistas de Aragón \n  \nFECHA\, HORARIO Y MODALIDAD \n12 de Septiembre de 2025 \nDe 12.00 a14.00 h \nModalidad: streaming \nRecuerda que la dirección de correo electrónico que figure en el formulario de inscripción es la que se utiliza para dar el alta en la plataforma online y sólo puede utilizarse para un usuario. \n  \nMATRÍCULA \nMiembros REAF: 20 € \nColegiado: 40 € \nNo colegiado: 60 € \n(Plazas gratuitas para colegiados menores de 30 años. Consulta condiciones aquí. Solicita tu plaza en colegioaragon@economistas.org) \nEl plazo de inscripción finalizará el 10 de septiembre de 2025. Toda inscripción no anulada 24 horas antes del comienzo del curso supondrá el pago íntegro de la matrícula. No se admitirán cancelaciones de plaza una vez enviado el material del ponente.
URL:https://economistasaragon.org/evento/taller-de-ia-aplicada-a-la-fiscalidad-casos-de-uso/
LOCATION:Curso streaming
CATEGORIES:Cursos y seminarios
ORGANIZER;CN="Colegio de Economistas de Arag%C3%B3n":MAILTO:colegioaragon@economistas.org
END:VEVENT
END:VCALENDAR